BEGIN:VCALENDAR
VERSION:2.0
PRODID:-//eventon.com NONSGML v1.0//EN
CALSCALE:GREGORIAN
METHOD:PUBLISH
BEGIN:VEVENT
UID:69e9f38547bf5
DTSTAMP:20260423T102509Z
DTSTART:20230930T190000Z
DTEND:20231001T020000Z
LOCATION:Millersville Community Center 1181 Louisville Hwy
SUMMARY:Millersville Fall Festival
DESCRIPTION:\nhttps://experiencerobertson.com/events/millersville-fall-fest
 ival/
URL:https://experiencerobertson.com/events/millersville-fall-festival/
END:VEVENT
END:VCALENDAR