BEGIN:VCALENDAR
VERSION:2.0
PRODID:-//eventon.com NONSGML v1.0//EN
CALSCALE:GREGORIAN
METHOD:PUBLISH
BEGIN:VEVENT
UID:69e9f33d5b3a0
DTSTAMP:20260423T102357Z
DTSTART:20241207T233000Z
DTEND:20241208T001500Z
LOCATION:The Square in Downtown Springfield 405 West Court Square
SUMMARY:Springfield "Real Tennessee Christmas" Parade
DESCRIPTION:\nhttps://experiencerobertson.com/events/winter-wonderland-chri
 stmas-parade/
URL:https://experiencerobertson.com/events/winter-wonderland-christmas-parade/
END:VEVENT
END:VCALENDAR