BEGIN:VCALENDAR
VERSION:2.0
PRODID:-//eventon.com NONSGML v1.0//EN
CALSCALE:GREGORIAN
METHOD:PUBLISH
BEGIN:VEVENT
UID:69e77c2456320
DTSTAMP:20260421T133116Z
DTSTART:20231005
DTEND:20231006
LOCATION:
SUMMARY:Kinda Spoopy II The Spirits Return
DESCRIPTION:\nhttps://experiencerobertson.com/events/kinda-spoopy-ii-the-sp
 irits-return/
URL:https://experiencerobertson.com/events/kinda-spoopy-ii-the-spirits-return/
END:VEVENT
END:VCALENDAR