BEGIN:VCALENDAR
VERSION:2.0
PRODID:-//eventon.com NONSGML v1.0//EN
CALSCALE:GREGORIAN
METHOD:PUBLISH
BEGIN:VEVENT
UID:69e9f26057780
DTSTAMP:20260423T102016Z
DTSTART:20231007T140000Z
DTEND:20231007T180000Z
LOCATION:Robertson County Fairgrounds 4635 Highway 41 N
SUMMARY:Robertson County Farmers Market: Fall on the Grounds
DESCRIPTION:\nhttps://experiencerobertson.com/events/robertson-county-farme
 rs-market-fall-on-the-gourds-2/
URL:https://experiencerobertson.com/events/robertson-county-farmers-market-fall-on-the-gourds-2/
END:VEVENT
END:VCALENDAR