BEGIN:VCALENDAR
VERSION:2.0
PRODID:-//eventon.com NONSGML v1.0//EN
CALSCALE:GREGORIAN
METHOD:PUBLISH
BEGIN:VEVENT
UID:69ea07e5d8528
DTSTAMP:20260423T115205Z
DTSTART:20231111T010000Z
DTEND:20231111T020000Z
LOCATION:
SUMMARY:From Motown to Broadway
DESCRIPTION:\nhttps://experiencerobertson.com/events/from-motown-to-broadwa
 y/
URL:https://experiencerobertson.com/events/from-motown-to-broadway/
END:VEVENT
END:VCALENDAR