BEGIN:VCALENDAR
VERSION:2.0
PRODID:-//eventon.com NONSGML v1.0//EN
CALSCALE:GREGORIAN
METHOD:PUBLISH
BEGIN:VEVENT
UID:69e9f04b2df4d
DTSTAMP:20260423T101123Z
DTSTART:20231130T230000Z
DTEND:20231201T010000Z
LOCATION:
SUMMARY:Christmas After Hours
DESCRIPTION:\nhttps://experiencerobertson.com/events/christmas-after-hours/
URL:https://experiencerobertson.com/events/christmas-after-hours/
END:VEVENT
END:VCALENDAR