BEGIN:VCALENDAR
VERSION:2.0
PRODID:-//eventon.com NONSGML v1.0//EN
CALSCALE:GREGORIAN
METHOD:PUBLISH
BEGIN:VEVENT
UID:69e4c8eaaf08e
DTSTAMP:20260419T122202Z
DTSTART:20240921T150000Z
DTEND:20240921T210000Z
LOCATION:Louise Martin City Park 2300 Old Greenbrier Pike
SUMMARY:BBQ & Bags
DESCRIPTION:\nhttps://experiencerobertson.com/events/bbq-bags/
URL:https://experiencerobertson.com/events/bbq-bags/
END:VEVENT
END:VCALENDAR