BEGIN:VCALENDAR
VERSION:2.0
PRODID:-//eventon.com NONSGML v1.0//EN
CALSCALE:GREGORIAN
METHOD:PUBLISH
BEGIN:VEVENT
UID:69e4cbdb56b6a
DTSTAMP:20260419T123435Z
DTSTART:20240511T170000Z
DTEND:20240511T200000Z
LOCATION:Shade Tree Farm and Orchard 2087 Kinneys Road
SUMMARY:Murder Mystery Dinner
DESCRIPTION:\nhttps://experiencerobertson.com/events/murder-mystery-dinner/
URL:https://experiencerobertson.com/events/murder-mystery-dinner/
END:VEVENT
END:VCALENDAR