BEGIN:VCALENDAR
VERSION:2.0
PRODID:-//eventon.com NONSGML v1.0//EN
CALSCALE:GREGORIAN
METHOD:PUBLISH
BEGIN:VEVENT
UID:69e4cabcba0c4
DTSTAMP:20260419T122948Z
DTSTART:20240406T180000Z
DTEND:20240406T210000Z
LOCATION:Ridgetop Train Museum 1452 Highland Avenue
SUMMARY:Train Museum
DESCRIPTION:\nhttps://experiencerobertson.com/events/train-museum-2/
URL:https://experiencerobertson.com/events/train-museum-2/
END:VEVENT
END:VCALENDAR