BEGIN:VCALENDAR
VERSION:2.0
PRODID:-//eventon.com NONSGML v1.0//EN
CALSCALE:GREGORIAN
METHOD:PUBLISH
BEGIN:VEVENT
UID:69e4e0019c329
DTSTAMP:20260419T140033Z
DTSTART:20240504T160000Z
DTEND:20240504T200000Z
LOCATION:Robertson County Fairgrounds 4635 Highway 41 N
SUMMARY:Cuatro De Mayo
DESCRIPTION:\nhttps://experiencerobertson.com/events/cuatro-de-mayo/
URL:https://experiencerobertson.com/events/cuatro-de-mayo/
END:VEVENT
END:VCALENDAR