BEGIN:VCALENDAR
VERSION:2.0
PRODID:-//eventon.com NONSGML v1.0//EN
CALSCALE:GREGORIAN
METHOD:PUBLISH
BEGIN:VEVENT
UID:69e9dee2c33c4
DTSTAMP:20260423T085706Z
DTSTART:20240628
DTEND:20240629
LOCATION:Cross Plains TN-25
SUMMARY:Trash & Treasures
DESCRIPTION:\nhttps://experiencerobertson.com/events/trash-treasure/
URL:https://experiencerobertson.com/events/trash-treasure/
END:VEVENT
END:VCALENDAR