BEGIN:VCALENDAR
VERSION:2.0
PRODID:-//eventon.com NONSGML v1.0//EN
CALSCALE:GREGORIAN
METHOD:PUBLISH
BEGIN:VEVENT
UID:69ea0866a669d
DTSTAMP:20260423T115414Z
DTSTART:20240921T090000Z
DTEND:20240921T110000Z
LOCATION:Ruby&#039;s Happy Farm 2175 Friendship Road
SUMMARY:Yoga on the Farm
DESCRIPTION:\nhttps://experiencerobertson.com/events/yoga-on-the-farm/
URL:https://experiencerobertson.com/events/yoga-on-the-farm/
END:VEVENT
END:VCALENDAR