BEGIN:VCALENDAR
VERSION:2.0
PRODID:-//eventon.com NONSGML v1.0//EN
CALSCALE:GREGORIAN
METHOD:PUBLISH
BEGIN:VEVENT
UID:69e9d531a2c50
DTSTAMP:20260423T081545Z
DTSTART:20240928T110000Z
DTEND:20240928T140000Z
LOCATION:Steele Magnolia Sanctuary 3441 Kinneys Road
SUMMARY:Steele Magnolia Sanctuary Harvest Horse Camp
DESCRIPTION:\nhttps://experiencerobertson.com/events/steele-magnolia-sanctu
 ary-harvest-horse-camp/
URL:https://experiencerobertson.com/events/steele-magnolia-sanctuary-harvest-horse-camp/
END:VEVENT
END:VCALENDAR