BEGIN:VCALENDAR
VERSION:2.0
PRODID:-//eventon.com NONSGML v1.0//EN
CALSCALE:GREGORIAN
METHOD:PUBLISH
BEGIN:VEVENT
UID:69e9f36ad348a
DTSTAMP:20260423T102442Z
DTSTART:20241205T170000Z
DTEND:20241205T200000Z
LOCATION:The Square in Downtown Springfield 405 West Court Square
SUMMARY:Horse-Drawn Carriage Rides presented by Real Springfield
DESCRIPTION:\nhttps://experiencerobertson.com/events/horse-drawn-carriage-r
 ides/
URL:https://experiencerobertson.com/events/horse-drawn-carriage-rides/
END:VEVENT
END:VCALENDAR