BEGIN:VCALENDAR
VERSION:2.0
PRODID:-//eventon.com NONSGML v1.0//EN
CALSCALE:GREGORIAN
METHOD:PUBLISH
BEGIN:VEVENT
UID:69e4ce779889d
DTSTAMP:20260419T124543Z
DTSTART:20241207T173000Z
DTEND:20241207T210000Z
LOCATION:J. Travis Price Park 4155 Wilks Road
SUMMARY:Winter Wonderland Christmas Lights
DESCRIPTION:\nhttps://experiencerobertson.com/events/winter-wonderland-chri
 stmas-lights/
URL:https://experiencerobertson.com/events/winter-wonderland-christmas-lights/
END:VEVENT
END:VCALENDAR