BEGIN:VCALENDAR
VERSION:2.0
PRODID:-//eventon.com NONSGML v1.0//EN
CALSCALE:GREGORIAN
METHOD:PUBLISH
BEGIN:VEVENT
UID:69e4c80ff27d6
DTSTAMP:20260419T121823Z
DTSTART:20250211T170000Z
DTEND:20250211T200000Z
LOCATION:Molipazzo 333 West Drive
SUMMARY:Galentine's Day Crafts & Cocktails For A Cause
DESCRIPTION:\nhttps://experiencerobertson.com/events/galentines-day-crafts-
 cocktails-for-a-cause-2/
URL:https://experiencerobertson.com/events/galentines-day-crafts-cocktails-for-a-cause-2/
END:VEVENT
END:VCALENDAR