BEGIN:VCALENDAR
VERSION:2.0
PRODID:-//eventon.com NONSGML v1.0//EN
CALSCALE:GREGORIAN
METHOD:PUBLISH
BEGIN:VEVENT
UID:69e4afe213537
DTSTAMP:20260419T103514Z
DTSTART:20251101T100000Z
DTEND:20251101T150000Z
LOCATION:Sumner Crest Winery 5306 Old Highway 52
SUMMARY:Sumner Crest Winery - Fall Sip & Shop
DESCRIPTION:\nhttps://experiencerobertson.com/events/sumner-crest-winery-fa
 ll-sip-shop/
URL:https://experiencerobertson.com/events/sumner-crest-winery-fall-sip-shop/
END:VEVENT
END:VCALENDAR