BEGIN:VCALENDAR
VERSION:2.0
PRODID:-//eventon.com NONSGML v1.0//EN
CALSCALE:GREGORIAN
METHOD:PUBLISH
BEGIN:VEVENT
UID:69e4dac15f7ae
DTSTAMP:20260419T133809Z
DTSTART:20260501T190000Z
DTEND:20260502T220000Z
LOCATION:The Storybook Cottage 2443 US Hwy 41
SUMMARY:The Storybook Cottage - Musical Theatre Cabaret
DESCRIPTION:Step into the spotlight with The StoryBook Theatre as they pres
 ent their inaugural Musical Theatre Cabaret at The StoryBook Cottage! Join 
 us May 1st and 2nd at 7:00 PM for an unforgettable evening featuring a tale
 nted lineup of performers bringing your favorite Broadway hits to life &#82
 11; both classic and[..]\nhttps://experiencerobertson.com/events/the-storyb
 ook-cottage-musical-theatre-cabaret/
URL:https://experiencerobertson.com/events/the-storybook-cottage-musical-theatre-cabaret/
END:VEVENT
END:VCALENDAR