BEGIN:VCALENDAR
VERSION:2.0
PRODID:-//eventon.com NONSGML v1.0//EN
CALSCALE:GREGORIAN
METHOD:PUBLISH
BEGIN:VEVENT
UID:69ea035847a38
DTSTAMP:20260423T113240Z
DTSTART:20260501T180000Z
DTEND:20260501T210000Z
LOCATION:The Square in Downtown Springfield 405 West Court Square
SUMMARY:First Friday Night Market - May 2026
DESCRIPTION:Kick off your weekend at First Fridays in Downtown Springfield\
 ,  a free\,  family- and pet-friendly event happening the first Friday of e
 ach month from May through October. Stroll through downtown and enjoy live 
 music\,  food trucks\,  a kids’ zone\,  and a specialty vehicle cruise-in
 \,  all while shopping local farmers\,  artisans\, [..]\nhttps://experience
 robertson.com/events/first-friday-night-market-may-2026/
URL:https://experiencerobertson.com/events/first-friday-night-market-may-2026/
END:VEVENT
END:VCALENDAR