BEGIN:VCALENDAR
VERSION:2.0
PRODID:-//eventon.com NONSGML v1.0//EN
CALSCALE:GREGORIAN
METHOD:PUBLISH
BEGIN:VEVENT
UID:69e7672d8b1b0
DTSTAMP:20260421T120149Z
DTSTART:20260718T090000Z
DTEND:20260718T120000Z
LOCATION:Steele Magnolia Sanctuary 3441 Kinneys Road
SUMMARY:Steele Magnolia Sanctuary - Horses & Hayrides Summer Camp
DESCRIPTION:Give your child a summer experience they won’t forget at the 
 Horses &amp; Hayrides Summer Camp hosted by Steele Magnolia Sanctuary! Desi
 gned for boys and girls ages 5–16\,  this one-day camp is packed with fun
 \,  hands-on activities that introduce kids to the joy of working with hors
 es in a safe[..]\nhttps://experiencerobertson.com/events/steele-magnolia-sa
 nctuary-horses-hayrides-summer-camp-15/
URL:https://experiencerobertson.com/events/steele-magnolia-sanctuary-horses-hayrides-summer-camp-15/
END:VEVENT
END:VCALENDAR